BEGIN:VCALENDAR
VERSION:2.0
PRODID:-//Aikido of Petaluma - ECPv6.14.2//NONSGML v1.0//EN
CALSCALE:GREGORIAN
METHOD:PUBLISH
X-WR-CALNAME:Aikido of Petaluma
X-ORIGINAL-URL:https://www.aikidopetaluma.com
X-WR-CALDESC:Events for Aikido of Petaluma
REFRESH-INTERVAL;VALUE=DURATION:PT1H
X-Robots-Tag:noindex
X-PUBLISHED-TTL:PT1H
BEGIN:VTIMEZONE
TZID:America/Halifax
BEGIN:DAYLIGHT
TZOFFSETFROM:-0400
TZOFFSETTO:-0300
TZNAME:ADT
DTSTART:20250309T060000
END:DAYLIGHT
BEGIN:STANDARD
TZOFFSETFROM:-0300
TZOFFSETTO:-0400
TZNAME:AST
DTSTART:20251102T050000
END:STANDARD
END:VTIMEZONE
BEGIN:VTIMEZONE
TZID:America/Los_Angeles
BEGIN:DAYLIGHT
TZOFFSETFROM:-0800
TZOFFSETTO:-0700
TZNAME:PDT
DTSTART:20240310T100000
END:DAYLIGHT
BEGIN:STANDARD
TZOFFSETFROM:-0700
TZOFFSETTO:-0800
TZNAME:PST
DTSTART:20241103T090000
END:STANDARD
END:VTIMEZONE
BEGIN:VEVENT
DTSTART;TZID=America/Halifax:20250331T080000
DTEND;TZID=America/Halifax:20250331T170000
DTSTAMP:20260424T115525
CREATED:20250324T224545Z
LAST-MODIFIED:20250324T224545Z
UID:3159-1743408000-1743440400@www.aikidopetaluma.com
SUMMARY:Last Day of Aikido Fundamentals
DESCRIPTION:Join us for the final fundamentals class of March 2025! \nWe’ll cover the fundaments of Aikido\, and what to focus on continuing your training.
URL:https://www.aikidopetaluma.com/event/last-day-of-aikido-fundamentals/
END:VEVENT
BEGIN:VEVENT
DTSTART;TZID=America/Halifax:20250329T093000
DTEND;TZID=America/Halifax:20250329T130000
DTSTAMP:20260424T115525
CREATED:20250324T225057Z
LAST-MODIFIED:20250324T225057Z
UID:3161-1743240600-1743253200@www.aikidopetaluma.com
SUMMARY:Beginners Day
DESCRIPTION:Come join us for an introduction to Aikido and Tai Chi. Free for all to learn\, dress comfortably.
URL:https://www.aikidopetaluma.com/event/beginners-day-2/
END:VEVENT
BEGIN:VEVENT
DTSTART;TZID=America/Los_Angeles:20240928T093000
DTEND;TZID=America/Los_Angeles:20240928T130000
DTSTAMP:20260424T115525
CREATED:20240802T181600Z
LAST-MODIFIED:20240803T035023Z
UID:3089-1727515800-1727528400@www.aikidopetaluma.com
SUMMARY:Beginners Day
DESCRIPTION:Classes are oriented and open to anyone with little or no knowledge.\nThere is no fee for attending any or all of the classes.\nClasses will include demonstrations\, videos\, and a chance to try it yourself in a safe and fun environment.\n  Spectators are welcome to come and observe. \n\nEnergy Class – 9:30 AM to 10:15 AM\nTai Chi –          10:15 AM to 11:15 AM\nAikido –           11:30 AM to 1:00 PM
URL:https://www.aikidopetaluma.com/event/beginners-day/
ATTACH;FMTTYPE=image/png:https://www.aikidopetaluma.com/wp-content/uploads/2020/08/Circle4b.png
END:VEVENT
BEGIN:VEVENT
DTSTART;TZID=America/Los_Angeles:20240925T190000
DTEND;TZID=America/Los_Angeles:20240925T203000
DTSTAMP:20260424T115525
CREATED:20240803T023250Z
LAST-MODIFIED:20240803T030419Z
UID:3100-1727290800-1727296200@www.aikidopetaluma.com
SUMMARY:Intro to Aikido: Aikido Fundamentals  Day 4
DESCRIPTION:Intro to Aikido: Aikido Fundamentals – Day 4 of 4\nFour classes in September for beginners\, or those with a beginner’s mind\, who want to start Aikido for the first time\, or polish and brush up on long forgotten skills. \n\nAbout/What will be covered:\nOur Wednesday Classes will be introducing Aikido fundamentals in a safe environment that embodies Aikido\, the Art of Peace. Aikido is a Budo\, or Traditional Japanese Martial Art that follows the ways of harmony and peace where one uniquely focuses on polishing yourself as a spiritual warrior\, and making sure your attacker is also not harmed. We’ll be introducing principles such as: Fundamental techniques\, how to roll and fall safely while training Introduction and the meaning of Aikido weapons: Aiki-Ken\, and Aiki-Jo Ways to start taking Aikido off the mat and out into life A wonderful place to get started\, or brush up where you might’ve left off on your journey. \n\n  \nWho can attend:\nAnyone who is curious and willing to try is invited to come. Everyone is encouraged to train in a joyful manner. No Aikido uniform is required for your first month of training\, come in comfortable clothes to move and roll in. \n\nHow to sign up or get more information:\nCall Aikido of Petaluma at 707-410-9732 to sign up. Note: You must sign up to attend the class.  Last-minute calls are OK. \n\nA note from the Instructor\, Liam Robertson\, Aikido 2nd Degree Black Belt (Nidan)\nI have been training in martial arts since I was about 10 years old\, starting with Shotokan Karate\, but I’ve always had a curiosity about Aikido and its uniqueness in the martial arts world. Being a creative person\, Aikido resonates to me with that sense of creativity the founder explained how each technique is new and evolving\, true victory is self victory\, and its core tenants being to train in a joyful manner. I’ve found Aikido to be a great martial art for enhancing one’s physical ability and peaceful nature\, but more importantly to me\, the sense of joy that good training brings. Please come join us!\n  \n\n\n\nSchedules\n\n\n\nThe 4 Wednesdays in September 2024. (4th\, 11th\, 18th\, 25th)\n7:00 PM to 8:30 PM\n\n\n\n\nRates\n\n\n\nSingle fee covering the entire introductory month (4 classes):\n$40\n\n\n\nSocial Media\n\n\n\nFacebook\n\n\n\n 
URL:https://www.aikidopetaluma.com/event/intro-to-aikido-aikido-fundamentals-day-4/
CATEGORIES:Beginners,Intro Sep 24
ATTACH;FMTTYPE=image/png:https://www.aikidopetaluma.com/wp-content/uploads/2020/08/Circle5.png
END:VEVENT
BEGIN:VEVENT
DTSTART;TZID=America/Los_Angeles:20240918T190000
DTEND;TZID=America/Los_Angeles:20240918T203000
DTSTAMP:20260424T115525
CREATED:20240803T023005Z
LAST-MODIFIED:20240803T030229Z
UID:3097-1726686000-1726691400@www.aikidopetaluma.com
SUMMARY:Intro to Aikido: Aikido Fundamentals  Day 3
DESCRIPTION:Intro to Aikido: Aikido Fundamentals – Day 3 of 4\nFour classes in September for beginners\, or those with a beginner’s mind\, who want to start Aikido for the first time\, or polish and brush up on long forgotten skills. \n\nAbout/What will be covered:\nOur Wednesday Classes will be introducing Aikido fundamentals in a safe environment that embodies Aikido\, the Art of Peace. Aikido is a Budo\, or Traditional Japanese Martial Art that follows the ways of harmony and peace where one uniquely focuses on polishing yourself as a spiritual warrior\, and making sure your attacker is also not harmed. We’ll be introducing principles such as: Fundamental techniques\, how to roll and fall safely while training Introduction and the meaning of Aikido weapons: Aiki-Ken\, and Aiki-Jo Ways to start taking Aikido off the mat and out into life A wonderful place to get started\, or brush up where you might’ve left off on your journey. \n\n  \nWho can attend:\nAnyone who is curious and willing to try is invited to come. Everyone is encouraged to train in a joyful manner. No Aikido uniform is required for your first month of training\, come in comfortable clothes to move and roll in. \n\nHow to sign up or get more information:\nCall Aikido of Petaluma at 707-410-9732 to sign up. Note: You must sign up to attend the class.  Last-minute calls are OK. \n\nA note from the Instructor\, Liam Robertson\, Aikido 2nd Degree Black Belt (Nidan)\nI have been training in martial arts since I was about 10 years old\, starting with Shotokan Karate\, but I’ve always had a curiosity about Aikido and its uniqueness in the martial arts world. Being a creative person\, Aikido resonates to me with that sense of creativity the founder explained how each technique is new and evolving\, true victory is self victory\, and its core tenants being to train in a joyful manner. I’ve found Aikido to be a great martial art for enhancing one’s physical ability and peaceful nature\, but more importantly to me\, the sense of joy that good training brings. Please come join us!\n  \n\n\n\nSchedules\n\n\n\nThe 4 Wednesdays in September 2024. (4th\, 11th\, 18th\, 25th)\n7:00 PM to 8:30 PM\n\n\n\n\nRates\n\n\n\nSingle fee covering the entire introductory month (4 classes):\n$40\n\n\n\nSocial Media\n\n\n\nFacebook\n\n\n\n 
URL:https://www.aikidopetaluma.com/event/intro-to-aikido-aikido-fundamentals-day-3/
CATEGORIES:Beginners,Intro Sep 24
ATTACH;FMTTYPE=image/png:https://www.aikidopetaluma.com/wp-content/uploads/2020/08/Circle5.png
END:VEVENT
BEGIN:VEVENT
DTSTART;TZID=America/Los_Angeles:20240911T190000
DTEND;TZID=America/Los_Angeles:20240911T203000
DTSTAMP:20260424T115525
CREATED:20240803T022018Z
LAST-MODIFIED:20240803T030015Z
UID:3092-1726081200-1726086600@www.aikidopetaluma.com
SUMMARY:Intro to Aikido: Aikido Fundamentals  Day 2
DESCRIPTION:Intro to Aikido: Aikido Fundamentals – Day 2 of 4\nFour classes in September for beginners\, or those with a beginner’s mind\, who want to start Aikido for the first time\, or polish and brush up on long forgotten skills.   \n\nAbout/What will be covered:\nOur Wednesday Classes will be introducing Aikido fundamentals in a safe environment that embodies Aikido\, the Art of Peace. Aikido is a Budo\, or Traditional Japanese Martial Art that follows the ways of harmony and peace where one uniquely focuses on polishing yourself as a spiritual warrior\, and making sure your attacker is also not harmed. We’ll be introducing principles such as: Fundamental techniques\, how to roll and fall safely while training Introduction and the meaning of Aikido weapons: Aiki-Ken\, and Aiki-Jo Ways to start taking Aikido off the mat and out into life A wonderful place to get started\, or brush up where you might’ve left off on your journey. \n\n  \nWho can attend:\nAnyone who is curious and willing to try is invited to come. Everyone is encouraged to train in a joyful manner. No Aikido uniform is required for your first month of training\, come in comfortable clothes to move and roll in. \n\nHow to sign up or get more information:\nCall Aikido of Petaluma at 707-410-9732 to sign up. Note: You must sign up to attend the class.  Last-minute calls are OK. \n\nA note from the Instructor\, Liam Robertson\, Aikido 2nd Degree Black Belt (Nidan)\nI have been training in martial arts since I was about 10 years old\, starting with Shotokan Karate\, but I’ve always had a curiosity about Aikido and its uniqueness in the martial arts world. Being a creative person\, Aikido resonates to me with that sense of creativity the founder explained how each technique is new and evolving\, true victory is self victory\, and its core tenants being to train in a joyful manner. I’ve found Aikido to be a great martial art for enhancing one’s physical ability and peaceful nature\, but more importantly to me\, the sense of joy that good training brings. Please come join us!\n  \n\n\n\nSchedules\n\n\n\nThe 4 Wednesdays in September 2024. (4th\, 11th\, 18th\, 25th)\n7:00 PM to 8:30 PM\n\n\n\n\nRates\n\n\n\nSingle fee covering the entire introductory month (4 classes):\n$40\n\n\n\nSocial Media\n\n\n\nFacebook\n\n\n\n 
URL:https://www.aikidopetaluma.com/event/intro-to-aikido-aikido-fundamentals-2/
CATEGORIES:Beginners,Intro Sep 24
ATTACH;FMTTYPE=image/png:https://www.aikidopetaluma.com/wp-content/uploads/2020/08/Circle5.png
END:VEVENT
BEGIN:VEVENT
DTSTART;TZID=America/Los_Angeles:20240904T190000
DTEND;TZID=America/Los_Angeles:20240904T203000
DTSTAMP:20260424T115525
CREATED:20240802T001245Z
LAST-MODIFIED:20240803T023621Z
UID:3074-1725476400-1725481800@www.aikidopetaluma.com
SUMMARY:Intro to Aikido: Aikido Fundamentals - 4 Wednesdays
DESCRIPTION:Aikido is a non-competitive martial art\, known as the “Art of Peace” for its conflict resolution qualities.     \nIntro to Aikido: Aikido Fundamentals\nFour classes in September for beginners\, or those with a beginner’s mind\, who want to start Aikido for the first time\, or polish and brush up on long forgotten skills. \n\nAbout/What will be covered:\nOur Wednesday Classes will be introducing Aikido fundamentals in a safe environment that embodies Aikido\, the Art of Peace. Aikido is a Budo\, or Traditional Japanese Martial Art that follows the ways of harmony and peace where one uniquely focuses on polishing yourself as a spiritual warrior\, and making sure your attacker is also not harmed. We’ll be introducing principles such as: Fundamental techniques\, how to roll and fall safely while training Introduction and the meaning of Aikido weapons: Aiki-Ken\, and Aiki-Jo Ways to start taking Aikido off the mat and out into life A wonderful place to get started\, or brush up where you might’ve left off on your journey. \n\n  \nWho can attend:\nAnyone who is curious and willing to try is invited to come. Everyone is encouraged to train in a joyful manner. No Aikido uniform is required for your first month of training\, come in comfortable clothes to move and roll in. \n\nHow to sign up or get more information:\nCall Aikido of Petaluma at 707-410-9732 to sign up. Note: You must sign up to attend the class.  Last-minute calls are OK. \n\nA note from the Instructor\, Liam Robertson\, Aikido 2nd Degree Black Belt (Nidan)\nI have been training in martial arts since I was about 10 years old\, starting with Shotokan Karate\, but I’ve always had a curiosity about Aikido and its uniqueness in the martial arts world. Being a creative person\, Aikido resonates to me with that sense of creativity the founder explained how each technique is new and evolving\, true victory is self victory\, and its core tenants being to train in a joyful manner. I’ve found Aikido to be a great martial art for enhancing one’s physical ability and peaceful nature\, but more importantly to me\, the sense of joy that good training brings. Please come join us!\n  \n\n\n\nSchedules\n\n\n\nThe 4 Wednesdays in September 2024. (4th\, 11th\, 18th\, 25th)\n7:00 PM to 8:30 PM\n\n\n\n\nRates\n\n\n\nSingle fee covering the entire introductory month (4 classes):\n$40\n\n\n\nSocial Media\n\n\n\nFacebook\n\n\n\n 
URL:https://www.aikidopetaluma.com/event/into-to-aikido-aikido-fundamentals/
LOCATION:Aikido of Petaluma\, 1372 N McDowell Blvd H\, Petaluma\, CA\, 94954\, United States
CATEGORIES:Beginners,Intro Sep 24
ATTACH;FMTTYPE=image/png:https://www.aikidopetaluma.com/wp-content/uploads/2020/08/Circle4b.png
END:VEVENT
END:VCALENDAR